BEGIN:VCALENDAR
VERSION:2.0
PRODID:-//Grace Fellowship Church - ECPv6.15.12.2//NONSGML v1.0//EN
CALSCALE:GREGORIAN
METHOD:PUBLISH
X-WR-CALNAME:Grace Fellowship Church
X-ORIGINAL-URL:https://gfc.com.ph
X-WR-CALDESC:Events for Grace Fellowship Church
REFRESH-INTERVAL;VALUE=DURATION:PT1H
X-Robots-Tag:noindex
X-PUBLISHED-TTL:PT1H
BEGIN:VTIMEZONE
TZID:Asia/Manila
BEGIN:STANDARD
TZOFFSETFROM:+0800
TZOFFSETTO:+0800
TZNAME:PST
DTSTART:20240101T000000
END:STANDARD
END:VTIMEZONE
BEGIN:VEVENT
DTSTART;TZID=Asia/Manila:20260418T090000
DTEND;TZID=Asia/Manila:20260418T113000
DTSTAMP:20260422T004502
CREATED:20260121T124009Z
LAST-MODIFIED:20260412T090644Z
UID:31453-1776502800-1776511800@gfc.com.ph
SUMMARY:Sin Awareness or Self Righteousness?
DESCRIPTION:The Women of Grace Ministry is inviting you to a Bible study series entitled “Crossroads with Christ\,” inspired by the book Saints & Scoundrels in the Story of Jesus by Nancy Guthrie. \nJoin us for Session 3 – “SIN AWARENESS OR SELF RIGHTEOUSNESS?” on Saturday\, APRIL 18\, at 9:00 AM\, here at the GFC Center. \nThis is OPEN TO ALL WOMEN\, so please invite your family and friends.
URL:https://gfc.com.ph/event/roman-catholicism-christian-apologetics/
LOCATION:GFC Center\, Grace Fellowship Church\, Madison Galeries\, 398 Don Jesus Blvd\, Cupang\, Muntinlupa\, Metro Manila\, Philippines
CATEGORIES:Women of Grace
ORGANIZER;CN="GFC":MAILTO:admin@gfc.com.ph
END:VEVENT
BEGIN:VEVENT
DTSTART;TZID=Asia/Manila:20251115T090000
DTEND;TZID=Asia/Manila:20251115T233000
DTSTAMP:20260422T004502
CREATED:20251112T114500Z
LAST-MODIFIED:20251112T114500Z
UID:31377-1763197200-1763249400@gfc.com.ph
SUMMARY:Fix Your Eyes on Jesus: The True Joy of Christmas
DESCRIPTION:WOMEN OF GRACE \nJoin us for the last session of this year! Invite your female family and friends to join us!
URL:https://gfc.com.ph/event/fix-your-eyes-on-jesus-the-true-joy-of-christmas/
LOCATION:GFC Center\, Grace Fellowship Church\, Madison Galeries\, 398 Don Jesus Blvd\, Cupang\, Muntinlupa\, Metro Manila\, Philippines
CATEGORIES:Women of Grace
ATTACH;FMTTYPE=image/jpeg:https://gfc.com.ph/wp-content/uploads/2025/11/WoG-111525-2-2.jpg
ORGANIZER;CN="GFC":MAILTO:admin@gfc.com.ph
END:VEVENT
BEGIN:VEVENT
DTSTART;TZID=Asia/Manila:20251025T090000
DTEND;TZID=Asia/Manila:20251025T103000
DTSTAMP:20260422T004502
CREATED:20251019T100304Z
LAST-MODIFIED:20251019T100304Z
UID:31172-1761382800-1761388200@gfc.com.ph
SUMMARY:Women’s Discipleship: A Biblical Call to Mentor and Lead
DESCRIPTION:EXCLUSIVE TO GFC MEMBERS ONLY! \nWomen of Grace would like to invite you. It’s a great opportunity to learn how to walk alongside and invest in one another spiritually. \n 
URL:https://gfc.com.ph/event/womens-discipleship-a-biblical-call-to-mentor-and-lead/
LOCATION:GFC Center\, Grace Fellowship Church\, Madison Galeries\, 398 Don Jesus Blvd\, Cupang\, Muntinlupa\, Metro Manila\, Philippines
CATEGORIES:Women of Grace
ATTACH;FMTTYPE=image/jpeg:https://gfc.com.ph/wp-content/uploads/2025/10/WoG-102525-2-2.jpg
ORGANIZER;CN="GFC":MAILTO:admin@gfc.com.ph
END:VEVENT
BEGIN:VEVENT
DTSTART;TZID=Asia/Manila:20250802T090000
DTEND;TZID=Asia/Manila:20250802T103000
DTSTAMP:20260422T004502
CREATED:20250811T111946Z
LAST-MODIFIED:20251013T134720Z
UID:26342-1754125200-1754130600@gfc.com.ph
SUMMARY:Behind the Crown: Esther's Story
DESCRIPTION:Session 2: Bold Faith\, Brave Action
URL:https://gfc.com.ph/event/behind-the-crown-esthers-story/
LOCATION:GFC Center\, Grace Fellowship Church\, Madison Galeries\, 398 Don Jesus Blvd\, Cupang\, Muntinlupa\, Metro Manila\, Philippines
CATEGORIES:Women of Grace
ATTACH;FMTTYPE=image/jpeg:https://gfc.com.ph/wp-content/uploads/2025/08/behind-the-crown-esthers-story.jpg
ORGANIZER;CN="GFC":MAILTO:admin@gfc.com.ph
END:VEVENT
END:VCALENDAR