BEGIN:VCALENDAR
VERSION:2.0
PRODID:-//Grace Fellowship Church - ECPv6.15.12.2//NONSGML v1.0//EN
CALSCALE:GREGORIAN
METHOD:PUBLISH
X-ORIGINAL-URL:https://gfc.com.ph
X-WR-CALDESC:Events for Grace Fellowship Church
REFRESH-INTERVAL;VALUE=DURATION:PT1H
X-Robots-Tag:noindex
X-PUBLISHED-TTL:PT1H
BEGIN:VTIMEZONE
TZID:Asia/Manila
BEGIN:STANDARD
TZOFFSETFROM:+0800
TZOFFSETTO:+0800
TZNAME:PST
DTSTART:20250101T000000
END:STANDARD
END:VTIMEZONE
BEGIN:VEVENT
DTSTART;TZID=Asia/Manila:20260425T080000
DTEND;TZID=Asia/Manila:20260425T100000
DTSTAMP:20260421T201732
CREATED:20260412T091022Z
LAST-MODIFIED:20260419T091144Z
UID:31569-1777104000-1777111200@gfc.com.ph
SUMMARY:WALK THE TALK—A MEN’S RUN/WALK FITNESS FELLOWSHIP
DESCRIPTION:Men of the Word would like to invite ALL MEN to again WALK THE TALK—A MEN’S RUN/WALK FITNESS FELLOWSHIP—NEXT SATURDAY ON APRIL 25\, 6AM in Filinvest Central Park in Alabang. Meetup is at MCDO across Acacia Hotel.\nSome of the brethren will teach and guide us as we Walk & Run from 6:00-7:30AM.\nFOR THOSE WHO WON’T BE JOINING THE WALK\, YOU CAN GO STRAIGHT TO MCDO AT 7:30AM FOR DEVO & FELLOWSHIP.\n\nPlease register your male friends and family with our admin at the back so we can finalize the headcount for this event.
URL:https://gfc.com.ph/event/walk-the-talk-a-mens-run-walk-fitness-fellowship/
CATEGORIES:Men of the Word
ATTACH;FMTTYPE=image/jpeg:https://gfc.com.ph/wp-content/uploads/2026/04/2026.04.25-MOW.jpg
ORGANIZER;CN="GFC":MAILTO:admin@gfc.com.ph
END:VEVENT
END:VCALENDAR