BEGIN:VCALENDAR
VERSION:2.0
PRODID:-//Grace Fellowship Church - ECPv6.15.12.2//NONSGML v1.0//EN
CALSCALE:GREGORIAN
METHOD:PUBLISH
X-WR-CALNAME:Grace Fellowship Church
X-ORIGINAL-URL:https://gfc.com.ph
X-WR-CALDESC:Events for Grace Fellowship Church
REFRESH-INTERVAL;VALUE=DURATION:PT1H
X-Robots-Tag:noindex
X-PUBLISHED-TTL:PT1H
BEGIN:VTIMEZONE
TZID:Asia/Manila
BEGIN:STANDARD
TZOFFSETFROM:+0800
TZOFFSETTO:+0800
TZNAME:PST
DTSTART:20240101T000000
END:STANDARD
END:VTIMEZONE
BEGIN:VEVENT
DTSTART;TZID=Asia/Manila:20260328T080000
DTEND;TZID=Asia/Manila:20260328T120000
DTSTAMP:20260421T202540
CREATED:20260208T085946Z
LAST-MODIFIED:20260322T085654Z
UID:31481-1774684800-1774699200@gfc.com.ph
SUMMARY:LIKE JESUS: In His Compassion
DESCRIPTION:MEN OF THE WORD will be gathering this coming Saturday for Session 2 of the Bible study series: “LIKE JESUS IN HIS COMPASSION”. \nHappening on MARCH 28\, SATURDAY\, 8AM – 12NOON\, HERE IN MADISON. \nThis is OPEN TO ALL MEN so please invite and register your family and friends. As always\, we would like to request the Wives to please mark this date for your husbands. \n  \n  \n 
URL:https://gfc.com.ph/event/like-jesus-the-quest-to-be-less-like-us-and-more-like-him/
LOCATION:GFC Center\, Grace Fellowship Church\, Madison Galeries\, 398 Don Jesus Blvd\, Cupang\, Muntinlupa\, Metro Manila\, Philippines
CATEGORIES:Men of the Word
ATTACH;FMTTYPE=image/jpeg:https://gfc.com.ph/wp-content/uploads/2026/03/MOW-01-copy.jpg
ORGANIZER;CN="GFC":MAILTO:admin@gfc.com.ph
END:VEVENT
BEGIN:VEVENT
DTSTART;TZID=Asia/Manila:20251129T080000
DTEND;TZID=Asia/Manila:20251129T120000
DTSTAMP:20260421T202541
CREATED:20251116T090924Z
LAST-MODIFIED:20251116T090924Z
UID:31395-1764403200-1764417600@gfc.com.ph
SUMMARY:SAINTS & AINTS: A Christmas Gathering of Forgiven Sinners
DESCRIPTION:MEN OF THE WORD is inviting all men to wear black\, white\, and gray to “SAINTS & AINTS”\, A Christmas Gathering of Forgiven Sinners NEXT SATURDAY\, NOVEMBER 29\, 8AM TO 12NOON\, HERE IN MADISON. \nThis is OPEN TO ALL MEN so please invite and register your family and friends. \nAs always\, wives please mark this date for your husbands and remind them to wear black\, white\, and gray. Hindi po tayo magra-rally\, instead we are going to remind ourselves of our battle with the sins we excuse as we cling on to Christ our only hope.
URL:https://gfc.com.ph/event/saints-aints-a-christmas-gathering-of-forgiven-sinners/
LOCATION:GFC Center\, Grace Fellowship Church\, Madison Galeries\, 398 Don Jesus Blvd\, Cupang\, Muntinlupa\, Metro Manila\, Philippines
CATEGORIES:Men of the Word
ATTACH;FMTTYPE=image/jpeg:https://gfc.com.ph/wp-content/uploads/2025/11/2025.11.29-MOW-scaled.jpg
ORGANIZER;CN="GFC":MAILTO:admin@gfc.com.ph
END:VEVENT
BEGIN:VEVENT
DTSTART;TZID=Asia/Manila:20251018T080000
DTEND;TZID=Asia/Manila:20251018T120000
DTSTAMP:20260421T202541
CREATED:20251015T090701Z
LAST-MODIFIED:20251015T091641Z
UID:31065-1760774400-1760788800@gfc.com.ph
SUMMARY:Motion Sickness: A Biblical Study on Prayerlessness & How We Can Develop a Better Spiritual Life Instead of Just Going Through Motions
DESCRIPTION:MEN OF THE WORD will continue with the Mini Conference series The Sins We Excuse—our brother Dan will be talking about MOTION SICKNESS… A BIBLICAL STUDY ON PRAYERLESSNESS & HOW WE CAN DEVELOP A BETTER SPIRITUAL LIFE INSTEAD OF JUST GOING THROUGH MOTIONS. \nHAPPENING THIS COMING SATURDAY\, OCTOBER 18\, 8 AM – 12 NOON\, HERE IN MADISON. \nThis is OPEN TO ALL MEN so please invite and register your family and friends. \nAs always\, wives please mark this date for your husbands.
URL:https://gfc.com.ph/event/motion-sickness-a-biblical-study-on-prayerlessness-how-we-can-develop-a-better-spiritual-life-instead-of-just-going-through-motions/
LOCATION:GFC Center\, Grace Fellowship Church\, Madison Galeries\, 398 Don Jesus Blvd\, Cupang\, Muntinlupa\, Metro Manila\, Philippines
CATEGORIES:Men of the Word
ATTACH;FMTTYPE=image/jpeg:https://gfc.com.ph/wp-content/uploads/2025/10/viber_image_2025-10-11_17-09-27-399.jpg
ORGANIZER;CN="GFC":MAILTO:admin@gfc.com.ph
END:VEVENT
BEGIN:VEVENT
DTSTART;TZID=Asia/Manila:20250726T080000
DTEND;TZID=Asia/Manila:20250726T120000
DTSTAMP:20260421T202541
CREATED:20250728T030923Z
LAST-MODIFIED:20251013T134640Z
UID:25664-1753516800-1753531200@gfc.com.ph
SUMMARY:Stay Silent or Strike Hard: A Biblical Study on Leadership Extremes
DESCRIPTION:The sin of passive leadership and harshness
URL:https://gfc.com.ph/event/stay-silent-or-strike-hard/
LOCATION:GFC Center\, Grace Fellowship Church\, Madison Galeries\, 398 Don Jesus Blvd\, Cupang\, Muntinlupa\, Metro Manila\, Philippines
CATEGORIES:Men of the Word
ATTACH;FMTTYPE=image/jpeg:https://gfc.com.ph/wp-content/uploads/2025/08/MOW-stay-silent-or-strike-hard.jpg
ORGANIZER;CN="GFC":MAILTO:admin@gfc.com.ph
END:VEVENT
END:VCALENDAR